BEGIN:VCALENDAR
VERSION:2.0
PRODID:-//IATSE Local 80 - ECPv6.15.20//NONSGML v1.0//EN
CALSCALE:GREGORIAN
METHOD:PUBLISH
X-ORIGINAL-URL:https://www.iatselocal80.org
X-WR-CALDESC:Events for IATSE Local 80
REFRESH-INTERVAL;VALUE=DURATION:PT1H
X-Robots-Tag:noindex
X-PUBLISHED-TTL:PT1H
BEGIN:VTIMEZONE
TZID:America/Los_Angeles
BEGIN:DAYLIGHT
TZOFFSETFROM:-0800
TZOFFSETTO:-0700
TZNAME:PDT
DTSTART:20280312T100000
END:DAYLIGHT
BEGIN:STANDARD
TZOFFSETFROM:-0700
TZOFFSETTO:-0800
TZNAME:PST
DTSTART:20281105T090000
END:STANDARD
BEGIN:DAYLIGHT
TZOFFSETFROM:-0800
TZOFFSETTO:-0700
TZNAME:PDT
DTSTART:20290311T100000
END:DAYLIGHT
BEGIN:STANDARD
TZOFFSETFROM:-0700
TZOFFSETTO:-0800
TZNAME:PST
DTSTART:20291104T090000
END:STANDARD
BEGIN:DAYLIGHT
TZOFFSETFROM:-0800
TZOFFSETTO:-0700
TZNAME:PDT
DTSTART:20300310T100000
END:DAYLIGHT
BEGIN:STANDARD
TZOFFSETFROM:-0700
TZOFFSETTO:-0800
TZNAME:PST
DTSTART:20301103T090000
END:STANDARD
BEGIN:DAYLIGHT
TZOFFSETFROM:-0800
TZOFFSETTO:-0700
TZNAME:PDT
DTSTART:20310309T100000
END:DAYLIGHT
BEGIN:STANDARD
TZOFFSETFROM:-0700
TZOFFSETTO:-0800
TZNAME:PST
DTSTART:20311102T090000
END:STANDARD
END:VTIMEZONE
BEGIN:VEVENT
DTSTART;TZID=America/Los_Angeles:20290725T100000
DTEND;TZID=America/Los_Angeles:20290725T170000
DTSTAMP:20260420T030020
CREATED:20260304T134404Z
LAST-MODIFIED:20260304T134404Z
UID:10001171-1879668000-1879693200@www.iatselocal80.org
SUMMARY:Financial Education \, Guidance \, Planning\, and Management with Vic Clement
DESCRIPTION:
URL:https://www.iatselocal80.org/calendar/financial-education-guidance-planning-and-management-with-vic-clement/2029-07-25/
LOCATION:Local 80 Office\, 2520 W. Olive Avenue\, Burbank\, 91505
END:VEVENT
BEGIN:VEVENT
DTSTART;TZID=America/Los_Angeles:20290801T100000
DTEND;TZID=America/Los_Angeles:20290801T170000
DTSTAMP:20260420T030020
CREATED:20260304T134404Z
LAST-MODIFIED:20260304T134404Z
UID:10001172-1880272800-1880298000@www.iatselocal80.org
SUMMARY:Financial Education \, Guidance \, Planning\, and Management with Vic Clement
DESCRIPTION:
URL:https://www.iatselocal80.org/calendar/financial-education-guidance-planning-and-management-with-vic-clement/2029-08-01/
LOCATION:Local 80 Office\, 2520 W. Olive Avenue\, Burbank\, 91505
END:VEVENT
BEGIN:VEVENT
DTSTART;TZID=America/Los_Angeles:20290808T100000
DTEND;TZID=America/Los_Angeles:20290808T170000
DTSTAMP:20260420T030020
CREATED:20260304T134404Z
LAST-MODIFIED:20260304T134404Z
UID:10001173-1880877600-1880902800@www.iatselocal80.org
SUMMARY:Financial Education \, Guidance \, Planning\, and Management with Vic Clement
DESCRIPTION:
URL:https://www.iatselocal80.org/calendar/financial-education-guidance-planning-and-management-with-vic-clement/2029-08-08/
LOCATION:Local 80 Office\, 2520 W. Olive Avenue\, Burbank\, 91505
END:VEVENT
BEGIN:VEVENT
DTSTART;TZID=America/Los_Angeles:20290815T100000
DTEND;TZID=America/Los_Angeles:20290815T170000
DTSTAMP:20260420T030020
CREATED:20260304T134404Z
LAST-MODIFIED:20260304T134404Z
UID:10001174-1881482400-1881507600@www.iatselocal80.org
SUMMARY:Financial Education \, Guidance \, Planning\, and Management with Vic Clement
DESCRIPTION:
URL:https://www.iatselocal80.org/calendar/financial-education-guidance-planning-and-management-with-vic-clement/2029-08-15/
LOCATION:Local 80 Office\, 2520 W. Olive Avenue\, Burbank\, 91505
END:VEVENT
BEGIN:VEVENT
DTSTART;TZID=America/Los_Angeles:20290822T100000
DTEND;TZID=America/Los_Angeles:20290822T170000
DTSTAMP:20260420T030020
CREATED:20260304T134404Z
LAST-MODIFIED:20260304T134404Z
UID:10001175-1882087200-1882112400@www.iatselocal80.org
SUMMARY:Financial Education \, Guidance \, Planning\, and Management with Vic Clement
DESCRIPTION:
URL:https://www.iatselocal80.org/calendar/financial-education-guidance-planning-and-management-with-vic-clement/2029-08-22/
LOCATION:Local 80 Office\, 2520 W. Olive Avenue\, Burbank\, 91505
END:VEVENT
BEGIN:VEVENT
DTSTART;TZID=America/Los_Angeles:20290829T100000
DTEND;TZID=America/Los_Angeles:20290829T170000
DTSTAMP:20260420T030020
CREATED:20260304T134404Z
LAST-MODIFIED:20260304T134404Z
UID:10001176-1882692000-1882717200@www.iatselocal80.org
SUMMARY:Financial Education \, Guidance \, Planning\, and Management with Vic Clement
DESCRIPTION:
URL:https://www.iatselocal80.org/calendar/financial-education-guidance-planning-and-management-with-vic-clement/2029-08-29/
LOCATION:Local 80 Office\, 2520 W. Olive Avenue\, Burbank\, 91505
END:VEVENT
BEGIN:VEVENT
DTSTART;TZID=America/Los_Angeles:20290905T100000
DTEND;TZID=America/Los_Angeles:20290905T170000
DTSTAMP:20260420T030020
CREATED:20260304T134404Z
LAST-MODIFIED:20260304T134404Z
UID:10001177-1883296800-1883322000@www.iatselocal80.org
SUMMARY:Financial Education \, Guidance \, Planning\, and Management with Vic Clement
DESCRIPTION:
URL:https://www.iatselocal80.org/calendar/financial-education-guidance-planning-and-management-with-vic-clement/2029-09-05/
LOCATION:Local 80 Office\, 2520 W. Olive Avenue\, Burbank\, 91505
END:VEVENT
BEGIN:VEVENT
DTSTART;TZID=America/Los_Angeles:20290912T100000
DTEND;TZID=America/Los_Angeles:20290912T170000
DTSTAMP:20260420T030020
CREATED:20260304T134404Z
LAST-MODIFIED:20260304T134404Z
UID:10001178-1883901600-1883926800@www.iatselocal80.org
SUMMARY:Financial Education \, Guidance \, Planning\, and Management with Vic Clement
DESCRIPTION:
URL:https://www.iatselocal80.org/calendar/financial-education-guidance-planning-and-management-with-vic-clement/2029-09-12/
LOCATION:Local 80 Office\, 2520 W. Olive Avenue\, Burbank\, 91505
END:VEVENT
BEGIN:VEVENT
DTSTART;TZID=America/Los_Angeles:20290919T100000
DTEND;TZID=America/Los_Angeles:20290919T170000
DTSTAMP:20260420T030020
CREATED:20260304T134404Z
LAST-MODIFIED:20260304T134404Z
UID:10001179-1884506400-1884531600@www.iatselocal80.org
SUMMARY:Financial Education \, Guidance \, Planning\, and Management with Vic Clement
DESCRIPTION:
URL:https://www.iatselocal80.org/calendar/financial-education-guidance-planning-and-management-with-vic-clement/2029-09-19/
LOCATION:Local 80 Office\, 2520 W. Olive Avenue\, Burbank\, 91505
END:VEVENT
BEGIN:VEVENT
DTSTART;TZID=America/Los_Angeles:20290926T100000
DTEND;TZID=America/Los_Angeles:20290926T170000
DTSTAMP:20260420T030020
CREATED:20260304T134404Z
LAST-MODIFIED:20260304T134404Z
UID:10001180-1885111200-1885136400@www.iatselocal80.org
SUMMARY:Financial Education \, Guidance \, Planning\, and Management with Vic Clement
DESCRIPTION:
URL:https://www.iatselocal80.org/calendar/financial-education-guidance-planning-and-management-with-vic-clement/2029-09-26/
LOCATION:Local 80 Office\, 2520 W. Olive Avenue\, Burbank\, 91505
END:VEVENT
BEGIN:VEVENT
DTSTART;TZID=America/Los_Angeles:20291003T100000
DTEND;TZID=America/Los_Angeles:20291003T170000
DTSTAMP:20260420T030020
CREATED:20260304T134404Z
LAST-MODIFIED:20260304T134404Z
UID:10001181-1885716000-1885741200@www.iatselocal80.org
SUMMARY:Financial Education \, Guidance \, Planning\, and Management with Vic Clement
DESCRIPTION:
URL:https://www.iatselocal80.org/calendar/financial-education-guidance-planning-and-management-with-vic-clement/2029-10-03/
LOCATION:Local 80 Office\, 2520 W. Olive Avenue\, Burbank\, 91505
END:VEVENT
BEGIN:VEVENT
DTSTART;TZID=America/Los_Angeles:20291010T100000
DTEND;TZID=America/Los_Angeles:20291010T170000
DTSTAMP:20260420T030020
CREATED:20260304T134404Z
LAST-MODIFIED:20260304T134404Z
UID:10001182-1886320800-1886346000@www.iatselocal80.org
SUMMARY:Financial Education \, Guidance \, Planning\, and Management with Vic Clement
DESCRIPTION:
URL:https://www.iatselocal80.org/calendar/financial-education-guidance-planning-and-management-with-vic-clement/2029-10-10/
LOCATION:Local 80 Office\, 2520 W. Olive Avenue\, Burbank\, 91505
END:VEVENT
BEGIN:VEVENT
DTSTART;TZID=America/Los_Angeles:20291017T100000
DTEND;TZID=America/Los_Angeles:20291017T170000
DTSTAMP:20260420T030020
CREATED:20260304T134404Z
LAST-MODIFIED:20260304T134404Z
UID:10001183-1886925600-1886950800@www.iatselocal80.org
SUMMARY:Financial Education \, Guidance \, Planning\, and Management with Vic Clement
DESCRIPTION:
URL:https://www.iatselocal80.org/calendar/financial-education-guidance-planning-and-management-with-vic-clement/2029-10-17/
LOCATION:Local 80 Office\, 2520 W. Olive Avenue\, Burbank\, 91505
END:VEVENT
BEGIN:VEVENT
DTSTART;TZID=America/Los_Angeles:20291024T100000
DTEND;TZID=America/Los_Angeles:20291024T170000
DTSTAMP:20260420T030020
CREATED:20260304T134404Z
LAST-MODIFIED:20260304T134404Z
UID:10001184-1887530400-1887555600@www.iatselocal80.org
SUMMARY:Financial Education \, Guidance \, Planning\, and Management with Vic Clement
DESCRIPTION:
URL:https://www.iatselocal80.org/calendar/financial-education-guidance-planning-and-management-with-vic-clement/2029-10-24/
LOCATION:Local 80 Office\, 2520 W. Olive Avenue\, Burbank\, 91505
END:VEVENT
BEGIN:VEVENT
DTSTART;TZID=America/Los_Angeles:20291031T100000
DTEND;TZID=America/Los_Angeles:20291031T170000
DTSTAMP:20260420T030020
CREATED:20260304T134404Z
LAST-MODIFIED:20260304T134404Z
UID:10001185-1888135200-1888160400@www.iatselocal80.org
SUMMARY:Financial Education \, Guidance \, Planning\, and Management with Vic Clement
DESCRIPTION:
URL:https://www.iatselocal80.org/calendar/financial-education-guidance-planning-and-management-with-vic-clement/2029-10-31/
LOCATION:Local 80 Office\, 2520 W. Olive Avenue\, Burbank\, 91505
END:VEVENT
BEGIN:VEVENT
DTSTART;TZID=America/Los_Angeles:20291107T100000
DTEND;TZID=America/Los_Angeles:20291107T170000
DTSTAMP:20260420T030020
CREATED:20260304T134404Z
LAST-MODIFIED:20260304T134404Z
UID:10001186-1888740000-1888765200@www.iatselocal80.org
SUMMARY:Financial Education \, Guidance \, Planning\, and Management with Vic Clement
DESCRIPTION:
URL:https://www.iatselocal80.org/calendar/financial-education-guidance-planning-and-management-with-vic-clement/2029-11-07/
LOCATION:Local 80 Office\, 2520 W. Olive Avenue\, Burbank\, 91505
END:VEVENT
BEGIN:VEVENT
DTSTART;TZID=America/Los_Angeles:20291114T100000
DTEND;TZID=America/Los_Angeles:20291114T170000
DTSTAMP:20260420T030020
CREATED:20260304T134404Z
LAST-MODIFIED:20260304T134404Z
UID:10001187-1889344800-1889370000@www.iatselocal80.org
SUMMARY:Financial Education \, Guidance \, Planning\, and Management with Vic Clement
DESCRIPTION:
URL:https://www.iatselocal80.org/calendar/financial-education-guidance-planning-and-management-with-vic-clement/2029-11-14/
LOCATION:Local 80 Office\, 2520 W. Olive Avenue\, Burbank\, 91505
END:VEVENT
BEGIN:VEVENT
DTSTART;TZID=America/Los_Angeles:20291121T100000
DTEND;TZID=America/Los_Angeles:20291121T170000
DTSTAMP:20260420T030020
CREATED:20260304T134404Z
LAST-MODIFIED:20260304T134404Z
UID:10001188-1889949600-1889974800@www.iatselocal80.org
SUMMARY:Financial Education \, Guidance \, Planning\, and Management with Vic Clement
DESCRIPTION:
URL:https://www.iatselocal80.org/calendar/financial-education-guidance-planning-and-management-with-vic-clement/2029-11-21/
LOCATION:Local 80 Office\, 2520 W. Olive Avenue\, Burbank\, 91505
END:VEVENT
BEGIN:VEVENT
DTSTART;TZID=America/Los_Angeles:20291128T100000
DTEND;TZID=America/Los_Angeles:20291128T170000
DTSTAMP:20260420T030020
CREATED:20260304T134404Z
LAST-MODIFIED:20260304T134404Z
UID:10001189-1890554400-1890579600@www.iatselocal80.org
SUMMARY:Financial Education \, Guidance \, Planning\, and Management with Vic Clement
DESCRIPTION:
URL:https://www.iatselocal80.org/calendar/financial-education-guidance-planning-and-management-with-vic-clement/2029-11-28/
LOCATION:Local 80 Office\, 2520 W. Olive Avenue\, Burbank\, 91505
END:VEVENT
BEGIN:VEVENT
DTSTART;TZID=America/Los_Angeles:20291205T100000
DTEND;TZID=America/Los_Angeles:20291205T170000
DTSTAMP:20260420T030020
CREATED:20260304T134404Z
LAST-MODIFIED:20260304T134404Z
UID:10001190-1891159200-1891184400@www.iatselocal80.org
SUMMARY:Financial Education \, Guidance \, Planning\, and Management with Vic Clement
DESCRIPTION:
URL:https://www.iatselocal80.org/calendar/financial-education-guidance-planning-and-management-with-vic-clement/2029-12-05/
LOCATION:Local 80 Office\, 2520 W. Olive Avenue\, Burbank\, 91505
END:VEVENT
BEGIN:VEVENT
DTSTART;TZID=America/Los_Angeles:20291212T100000
DTEND;TZID=America/Los_Angeles:20291212T170000
DTSTAMP:20260420T030020
CREATED:20260304T134404Z
LAST-MODIFIED:20260304T134404Z
UID:10001191-1891764000-1891789200@www.iatselocal80.org
SUMMARY:Financial Education \, Guidance \, Planning\, and Management with Vic Clement
DESCRIPTION:
URL:https://www.iatselocal80.org/calendar/financial-education-guidance-planning-and-management-with-vic-clement/2029-12-12/
LOCATION:Local 80 Office\, 2520 W. Olive Avenue\, Burbank\, 91505
END:VEVENT
BEGIN:VEVENT
DTSTART;TZID=America/Los_Angeles:20291219T100000
DTEND;TZID=America/Los_Angeles:20291219T170000
DTSTAMP:20260420T030020
CREATED:20260304T134404Z
LAST-MODIFIED:20260304T134404Z
UID:10001192-1892368800-1892394000@www.iatselocal80.org
SUMMARY:Financial Education \, Guidance \, Planning\, and Management with Vic Clement
DESCRIPTION:
URL:https://www.iatselocal80.org/calendar/financial-education-guidance-planning-and-management-with-vic-clement/2029-12-19/
LOCATION:Local 80 Office\, 2520 W. Olive Avenue\, Burbank\, 91505
END:VEVENT
BEGIN:VEVENT
DTSTART;TZID=America/Los_Angeles:20291226T100000
DTEND;TZID=America/Los_Angeles:20291226T170000
DTSTAMP:20260420T030020
CREATED:20260304T134404Z
LAST-MODIFIED:20260304T134404Z
UID:10001193-1892973600-1892998800@www.iatselocal80.org
SUMMARY:Financial Education \, Guidance \, Planning\, and Management with Vic Clement
DESCRIPTION:
URL:https://www.iatselocal80.org/calendar/financial-education-guidance-planning-and-management-with-vic-clement/2029-12-26/
LOCATION:Local 80 Office\, 2520 W. Olive Avenue\, Burbank\, 91505
END:VEVENT
BEGIN:VEVENT
DTSTART;TZID=America/Los_Angeles:20300102T100000
DTEND;TZID=America/Los_Angeles:20300102T170000
DTSTAMP:20260420T030020
CREATED:20260304T134404Z
LAST-MODIFIED:20260304T134404Z
UID:10001194-1893578400-1893603600@www.iatselocal80.org
SUMMARY:Financial Education \, Guidance \, Planning\, and Management with Vic Clement
DESCRIPTION:
URL:https://www.iatselocal80.org/calendar/financial-education-guidance-planning-and-management-with-vic-clement/2030-01-02/
LOCATION:Local 80 Office\, 2520 W. Olive Avenue\, Burbank\, 91505
END:VEVENT
BEGIN:VEVENT
DTSTART;TZID=America/Los_Angeles:20300109T100000
DTEND;TZID=America/Los_Angeles:20300109T170000
DTSTAMP:20260420T030020
CREATED:20260304T134404Z
LAST-MODIFIED:20260304T134404Z
UID:10001195-1894183200-1894208400@www.iatselocal80.org
SUMMARY:Financial Education \, Guidance \, Planning\, and Management with Vic Clement
DESCRIPTION:
URL:https://www.iatselocal80.org/calendar/financial-education-guidance-planning-and-management-with-vic-clement/2030-01-09/
LOCATION:Local 80 Office\, 2520 W. Olive Avenue\, Burbank\, 91505
END:VEVENT
BEGIN:VEVENT
DTSTART;TZID=America/Los_Angeles:20300116T100000
DTEND;TZID=America/Los_Angeles:20300116T170000
DTSTAMP:20260420T030020
CREATED:20260304T134404Z
LAST-MODIFIED:20260304T134404Z
UID:10001196-1894788000-1894813200@www.iatselocal80.org
SUMMARY:Financial Education \, Guidance \, Planning\, and Management with Vic Clement
DESCRIPTION:
URL:https://www.iatselocal80.org/calendar/financial-education-guidance-planning-and-management-with-vic-clement/2030-01-16/
LOCATION:Local 80 Office\, 2520 W. Olive Avenue\, Burbank\, 91505
END:VEVENT
BEGIN:VEVENT
DTSTART;TZID=America/Los_Angeles:20300123T100000
DTEND;TZID=America/Los_Angeles:20300123T170000
DTSTAMP:20260420T030020
CREATED:20260304T134404Z
LAST-MODIFIED:20260304T134404Z
UID:10001197-1895392800-1895418000@www.iatselocal80.org
SUMMARY:Financial Education \, Guidance \, Planning\, and Management with Vic Clement
DESCRIPTION:
URL:https://www.iatselocal80.org/calendar/financial-education-guidance-planning-and-management-with-vic-clement/2030-01-23/
LOCATION:Local 80 Office\, 2520 W. Olive Avenue\, Burbank\, 91505
END:VEVENT
BEGIN:VEVENT
DTSTART;TZID=America/Los_Angeles:20300130T100000
DTEND;TZID=America/Los_Angeles:20300130T170000
DTSTAMP:20260420T030020
CREATED:20260304T134404Z
LAST-MODIFIED:20260304T134404Z
UID:10001198-1895997600-1896022800@www.iatselocal80.org
SUMMARY:Financial Education \, Guidance \, Planning\, and Management with Vic Clement
DESCRIPTION:
URL:https://www.iatselocal80.org/calendar/financial-education-guidance-planning-and-management-with-vic-clement/2030-01-30/
LOCATION:Local 80 Office\, 2520 W. Olive Avenue\, Burbank\, 91505
END:VEVENT
BEGIN:VEVENT
DTSTART;TZID=America/Los_Angeles:20300206T100000
DTEND;TZID=America/Los_Angeles:20300206T170000
DTSTAMP:20260420T030020
CREATED:20260304T134404Z
LAST-MODIFIED:20260304T134404Z
UID:10001199-1896602400-1896627600@www.iatselocal80.org
SUMMARY:Financial Education \, Guidance \, Planning\, and Management with Vic Clement
DESCRIPTION:
URL:https://www.iatselocal80.org/calendar/financial-education-guidance-planning-and-management-with-vic-clement/2030-02-06/
LOCATION:Local 80 Office\, 2520 W. Olive Avenue\, Burbank\, 91505
END:VEVENT
BEGIN:VEVENT
DTSTART;TZID=America/Los_Angeles:20300213T100000
DTEND;TZID=America/Los_Angeles:20300213T170000
DTSTAMP:20260420T030020
CREATED:20260304T134404Z
LAST-MODIFIED:20260304T134404Z
UID:10001200-1897207200-1897232400@www.iatselocal80.org
SUMMARY:Financial Education \, Guidance \, Planning\, and Management with Vic Clement
DESCRIPTION:
URL:https://www.iatselocal80.org/calendar/financial-education-guidance-planning-and-management-with-vic-clement/2030-02-13/
LOCATION:Local 80 Office\, 2520 W. Olive Avenue\, Burbank\, 91505
END:VEVENT
END:VCALENDAR