BEGIN:VCALENDAR
VERSION:2.0
PRODID:-//IATSE Local 80 - ECPv6.15.20//NONSGML v1.0//EN
CALSCALE:GREGORIAN
METHOD:PUBLISH
X-WR-CALNAME:IATSE Local 80
X-ORIGINAL-URL:https://www.iatselocal80.org
X-WR-CALDESC:Events for IATSE Local 80
REFRESH-INTERVAL;VALUE=DURATION:PT1H
X-Robots-Tag:noindex
X-PUBLISHED-TTL:PT1H
BEGIN:VTIMEZONE
TZID:America/Los_Angeles
BEGIN:DAYLIGHT
TZOFFSETFROM:-0800
TZOFFSETTO:-0700
TZNAME:PDT
DTSTART:20250309T100000
END:DAYLIGHT
BEGIN:STANDARD
TZOFFSETFROM:-0700
TZOFFSETTO:-0800
TZNAME:PST
DTSTART:20251102T090000
END:STANDARD
BEGIN:DAYLIGHT
TZOFFSETFROM:-0800
TZOFFSETTO:-0700
TZNAME:PDT
DTSTART:20260308T100000
END:DAYLIGHT
BEGIN:STANDARD
TZOFFSETFROM:-0700
TZOFFSETTO:-0800
TZNAME:PST
DTSTART:20261101T090000
END:STANDARD
BEGIN:DAYLIGHT
TZOFFSETFROM:-0800
TZOFFSETTO:-0700
TZNAME:PDT
DTSTART:20270314T100000
END:DAYLIGHT
BEGIN:STANDARD
TZOFFSETFROM:-0700
TZOFFSETTO:-0800
TZNAME:PST
DTSTART:20271107T090000
END:STANDARD
END:VTIMEZONE
BEGIN:VEVENT
DTSTART;TZID=America/Los_Angeles:20260503T100000
DTEND;TZID=America/Los_Angeles:20260503T123000
DTSTAMP:20260421T120338
CREATED:20260304T003713Z
LAST-MODIFIED:20260304T003713Z
UID:10000987-1777802400-1777811400@www.iatselocal80.org
SUMMARY:Local 80 General Membership Meeting
DESCRIPTION:
URL:https://www.iatselocal80.org/calendar/local-80-general-membership-meeting/2026-05-03/
END:VEVENT
BEGIN:VEVENT
DTSTART;TZID=America/Los_Angeles:20260607T100000
DTEND;TZID=America/Los_Angeles:20260607T123000
DTSTAMP:20260421T120338
CREATED:20260304T003713Z
LAST-MODIFIED:20260304T003713Z
UID:10000988-1780826400-1780835400@www.iatselocal80.org
SUMMARY:Local 80 General Membership Meeting
DESCRIPTION:
URL:https://www.iatselocal80.org/calendar/local-80-general-membership-meeting/2026-06-07/
END:VEVENT
BEGIN:VEVENT
DTSTART;TZID=America/Los_Angeles:20260802T100000
DTEND;TZID=America/Los_Angeles:20260802T123000
DTSTAMP:20260421T120338
CREATED:20260304T003713Z
LAST-MODIFIED:20260304T003713Z
UID:10000989-1785664800-1785673800@www.iatselocal80.org
SUMMARY:Local 80 General Membership Meeting
DESCRIPTION:
URL:https://www.iatselocal80.org/calendar/local-80-general-membership-meeting/2026-08-02/
END:VEVENT
BEGIN:VEVENT
DTSTART;TZID=America/Los_Angeles:20261004T100000
DTEND;TZID=America/Los_Angeles:20261004T123000
DTSTAMP:20260421T120338
CREATED:20260304T003713Z
LAST-MODIFIED:20260304T003713Z
UID:10000990-1791108000-1791117000@www.iatselocal80.org
SUMMARY:Local 80 General Membership Meeting
DESCRIPTION:
URL:https://www.iatselocal80.org/calendar/local-80-general-membership-meeting/2026-10-04/
END:VEVENT
BEGIN:VEVENT
DTSTART;TZID=America/Los_Angeles:20261101T100000
DTEND;TZID=America/Los_Angeles:20261101T123000
DTSTAMP:20260421T120338
CREATED:20260304T003713Z
LAST-MODIFIED:20260304T003713Z
UID:10000991-1793527200-1793536200@www.iatselocal80.org
SUMMARY:Local 80 General Membership Meeting
DESCRIPTION:
URL:https://www.iatselocal80.org/calendar/local-80-general-membership-meeting/2026-11-01/
END:VEVENT
BEGIN:VEVENT
DTSTART;TZID=America/Los_Angeles:20261206T100000
DTEND;TZID=America/Los_Angeles:20261206T123000
DTSTAMP:20260421T120338
CREATED:20260304T003713Z
LAST-MODIFIED:20260304T003713Z
UID:10000992-1796551200-1796560200@www.iatselocal80.org
SUMMARY:Local 80 General Membership Meeting
DESCRIPTION:
URL:https://www.iatselocal80.org/calendar/local-80-general-membership-meeting/2026-12-06/
END:VEVENT
END:VCALENDAR