BEGIN:VCALENDAR
VERSION:2.0
PRODID:-//IATSE Local 80 - ECPv6.15.20//NONSGML v1.0//EN
CALSCALE:GREGORIAN
METHOD:PUBLISH
X-WR-CALNAME:IATSE Local 80
X-ORIGINAL-URL:https://www.iatselocal80.org
X-WR-CALDESC:Events for IATSE Local 80
REFRESH-INTERVAL;VALUE=DURATION:PT1H
X-Robots-Tag:noindex
X-PUBLISHED-TTL:PT1H
BEGIN:VTIMEZONE
TZID:America/Los_Angeles
BEGIN:DAYLIGHT
TZOFFSETFROM:-0800
TZOFFSETTO:-0700
TZNAME:PDT
DTSTART:20250309T100000
END:DAYLIGHT
BEGIN:STANDARD
TZOFFSETFROM:-0700
TZOFFSETTO:-0800
TZNAME:PST
DTSTART:20251102T090000
END:STANDARD
BEGIN:DAYLIGHT
TZOFFSETFROM:-0800
TZOFFSETTO:-0700
TZNAME:PDT
DTSTART:20260308T100000
END:DAYLIGHT
BEGIN:STANDARD
TZOFFSETFROM:-0700
TZOFFSETTO:-0800
TZNAME:PST
DTSTART:20261101T090000
END:STANDARD
BEGIN:DAYLIGHT
TZOFFSETFROM:-0800
TZOFFSETTO:-0700
TZNAME:PDT
DTSTART:20270314T100000
END:DAYLIGHT
BEGIN:STANDARD
TZOFFSETFROM:-0700
TZOFFSETTO:-0800
TZNAME:PST
DTSTART:20271107T090000
END:STANDARD
END:VTIMEZONE
BEGIN:VEVENT
DTSTART;TZID=America/Los_Angeles:20260429T100000
DTEND;TZID=America/Los_Angeles:20260429T170000
DTSTAMP:20260425T070559
CREATED:20260304T134404Z
LAST-MODIFIED:20260304T134404Z
UID:10001002-1777456800-1777482000@www.iatselocal80.org
SUMMARY:Financial Education \, Guidance \, Planning\, and Management with Vic Clement
DESCRIPTION:
URL:https://www.iatselocal80.org/calendar/financial-education-guidance-planning-and-management-with-vic-clement/2026-04-29/
LOCATION:Local 80 Office\, 2520 W. Olive Avenue\, Burbank\, 91505
END:VEVENT
BEGIN:VEVENT
DTSTART;TZID=America/Los_Angeles:20260506T100000
DTEND;TZID=America/Los_Angeles:20260506T170000
DTSTAMP:20260425T070559
CREATED:20260304T134404Z
LAST-MODIFIED:20260304T134404Z
UID:10001003-1778061600-1778086800@www.iatselocal80.org
SUMMARY:Financial Education \, Guidance \, Planning\, and Management with Vic Clement
DESCRIPTION:
URL:https://www.iatselocal80.org/calendar/financial-education-guidance-planning-and-management-with-vic-clement/2026-05-06/
LOCATION:Local 80 Office\, 2520 W. Olive Avenue\, Burbank\, 91505
END:VEVENT
BEGIN:VEVENT
DTSTART;TZID=America/Los_Angeles:20260513T100000
DTEND;TZID=America/Los_Angeles:20260513T170000
DTSTAMP:20260425T070559
CREATED:20260304T134404Z
LAST-MODIFIED:20260304T134404Z
UID:10001004-1778666400-1778691600@www.iatselocal80.org
SUMMARY:Financial Education \, Guidance \, Planning\, and Management with Vic Clement
DESCRIPTION:
URL:https://www.iatselocal80.org/calendar/financial-education-guidance-planning-and-management-with-vic-clement/2026-05-13/
LOCATION:Local 80 Office\, 2520 W. Olive Avenue\, Burbank\, 91505
END:VEVENT
BEGIN:VEVENT
DTSTART;TZID=America/Los_Angeles:20260520T100000
DTEND;TZID=America/Los_Angeles:20260520T170000
DTSTAMP:20260425T070559
CREATED:20260304T134404Z
LAST-MODIFIED:20260304T134404Z
UID:10001005-1779271200-1779296400@www.iatselocal80.org
SUMMARY:Financial Education \, Guidance \, Planning\, and Management with Vic Clement
DESCRIPTION:
URL:https://www.iatselocal80.org/calendar/financial-education-guidance-planning-and-management-with-vic-clement/2026-05-20/
LOCATION:Local 80 Office\, 2520 W. Olive Avenue\, Burbank\, 91505
END:VEVENT
BEGIN:VEVENT
DTSTART;TZID=America/Los_Angeles:20260527T100000
DTEND;TZID=America/Los_Angeles:20260527T170000
DTSTAMP:20260425T070559
CREATED:20260304T134404Z
LAST-MODIFIED:20260304T134404Z
UID:10001006-1779876000-1779901200@www.iatselocal80.org
SUMMARY:Financial Education \, Guidance \, Planning\, and Management with Vic Clement
DESCRIPTION:
URL:https://www.iatselocal80.org/calendar/financial-education-guidance-planning-and-management-with-vic-clement/2026-05-27/
LOCATION:Local 80 Office\, 2520 W. Olive Avenue\, Burbank\, 91505
END:VEVENT
BEGIN:VEVENT
DTSTART;TZID=America/Los_Angeles:20260603T100000
DTEND;TZID=America/Los_Angeles:20260603T170000
DTSTAMP:20260425T070559
CREATED:20260304T134404Z
LAST-MODIFIED:20260304T134404Z
UID:10001007-1780480800-1780506000@www.iatselocal80.org
SUMMARY:Financial Education \, Guidance \, Planning\, and Management with Vic Clement
DESCRIPTION:
URL:https://www.iatselocal80.org/calendar/financial-education-guidance-planning-and-management-with-vic-clement/2026-06-03/
LOCATION:Local 80 Office\, 2520 W. Olive Avenue\, Burbank\, 91505
END:VEVENT
BEGIN:VEVENT
DTSTART;TZID=America/Los_Angeles:20260610T100000
DTEND;TZID=America/Los_Angeles:20260610T170000
DTSTAMP:20260425T070559
CREATED:20260304T134404Z
LAST-MODIFIED:20260304T134404Z
UID:10001008-1781085600-1781110800@www.iatselocal80.org
SUMMARY:Financial Education \, Guidance \, Planning\, and Management with Vic Clement
DESCRIPTION:
URL:https://www.iatselocal80.org/calendar/financial-education-guidance-planning-and-management-with-vic-clement/2026-06-10/
LOCATION:Local 80 Office\, 2520 W. Olive Avenue\, Burbank\, 91505
END:VEVENT
BEGIN:VEVENT
DTSTART;TZID=America/Los_Angeles:20260617T100000
DTEND;TZID=America/Los_Angeles:20260617T170000
DTSTAMP:20260425T070559
CREATED:20260304T134404Z
LAST-MODIFIED:20260304T134404Z
UID:10001009-1781690400-1781715600@www.iatselocal80.org
SUMMARY:Financial Education \, Guidance \, Planning\, and Management with Vic Clement
DESCRIPTION:
URL:https://www.iatselocal80.org/calendar/financial-education-guidance-planning-and-management-with-vic-clement/2026-06-17/
LOCATION:Local 80 Office\, 2520 W. Olive Avenue\, Burbank\, 91505
END:VEVENT
BEGIN:VEVENT
DTSTART;TZID=America/Los_Angeles:20260624T100000
DTEND;TZID=America/Los_Angeles:20260624T170000
DTSTAMP:20260425T070559
CREATED:20260304T134404Z
LAST-MODIFIED:20260304T134404Z
UID:10001010-1782295200-1782320400@www.iatselocal80.org
SUMMARY:Financial Education \, Guidance \, Planning\, and Management with Vic Clement
DESCRIPTION:
URL:https://www.iatselocal80.org/calendar/financial-education-guidance-planning-and-management-with-vic-clement/2026-06-24/
LOCATION:Local 80 Office\, 2520 W. Olive Avenue\, Burbank\, 91505
END:VEVENT
BEGIN:VEVENT
DTSTART;TZID=America/Los_Angeles:20260701T100000
DTEND;TZID=America/Los_Angeles:20260701T170000
DTSTAMP:20260425T070559
CREATED:20260304T134404Z
LAST-MODIFIED:20260304T134404Z
UID:10001011-1782900000-1782925200@www.iatselocal80.org
SUMMARY:Financial Education \, Guidance \, Planning\, and Management with Vic Clement
DESCRIPTION:
URL:https://www.iatselocal80.org/calendar/financial-education-guidance-planning-and-management-with-vic-clement/2026-07-01/
LOCATION:Local 80 Office\, 2520 W. Olive Avenue\, Burbank\, 91505
END:VEVENT
BEGIN:VEVENT
DTSTART;TZID=America/Los_Angeles:20260708T100000
DTEND;TZID=America/Los_Angeles:20260708T170000
DTSTAMP:20260425T070559
CREATED:20260304T134404Z
LAST-MODIFIED:20260304T134404Z
UID:10001012-1783504800-1783530000@www.iatselocal80.org
SUMMARY:Financial Education \, Guidance \, Planning\, and Management with Vic Clement
DESCRIPTION:
URL:https://www.iatselocal80.org/calendar/financial-education-guidance-planning-and-management-with-vic-clement/2026-07-08/
LOCATION:Local 80 Office\, 2520 W. Olive Avenue\, Burbank\, 91505
END:VEVENT
BEGIN:VEVENT
DTSTART;TZID=America/Los_Angeles:20260715T100000
DTEND;TZID=America/Los_Angeles:20260715T170000
DTSTAMP:20260425T070559
CREATED:20260304T134404Z
LAST-MODIFIED:20260304T134404Z
UID:10001013-1784109600-1784134800@www.iatselocal80.org
SUMMARY:Financial Education \, Guidance \, Planning\, and Management with Vic Clement
DESCRIPTION:
URL:https://www.iatselocal80.org/calendar/financial-education-guidance-planning-and-management-with-vic-clement/2026-07-15/
LOCATION:Local 80 Office\, 2520 W. Olive Avenue\, Burbank\, 91505
END:VEVENT
BEGIN:VEVENT
DTSTART;TZID=America/Los_Angeles:20260722T100000
DTEND;TZID=America/Los_Angeles:20260722T170000
DTSTAMP:20260425T070559
CREATED:20260304T134404Z
LAST-MODIFIED:20260304T134404Z
UID:10001014-1784714400-1784739600@www.iatselocal80.org
SUMMARY:Financial Education \, Guidance \, Planning\, and Management with Vic Clement
DESCRIPTION:
URL:https://www.iatselocal80.org/calendar/financial-education-guidance-planning-and-management-with-vic-clement/2026-07-22/
LOCATION:Local 80 Office\, 2520 W. Olive Avenue\, Burbank\, 91505
END:VEVENT
BEGIN:VEVENT
DTSTART;TZID=America/Los_Angeles:20260729T100000
DTEND;TZID=America/Los_Angeles:20260729T170000
DTSTAMP:20260425T070559
CREATED:20260304T134404Z
LAST-MODIFIED:20260304T134404Z
UID:10001015-1785319200-1785344400@www.iatselocal80.org
SUMMARY:Financial Education \, Guidance \, Planning\, and Management with Vic Clement
DESCRIPTION:
URL:https://www.iatselocal80.org/calendar/financial-education-guidance-planning-and-management-with-vic-clement/2026-07-29/
LOCATION:Local 80 Office\, 2520 W. Olive Avenue\, Burbank\, 91505
END:VEVENT
BEGIN:VEVENT
DTSTART;TZID=America/Los_Angeles:20260805T100000
DTEND;TZID=America/Los_Angeles:20260805T170000
DTSTAMP:20260425T070559
CREATED:20260304T134404Z
LAST-MODIFIED:20260304T134404Z
UID:10001016-1785924000-1785949200@www.iatselocal80.org
SUMMARY:Financial Education \, Guidance \, Planning\, and Management with Vic Clement
DESCRIPTION:
URL:https://www.iatselocal80.org/calendar/financial-education-guidance-planning-and-management-with-vic-clement/2026-08-05/
LOCATION:Local 80 Office\, 2520 W. Olive Avenue\, Burbank\, 91505
END:VEVENT
BEGIN:VEVENT
DTSTART;TZID=America/Los_Angeles:20260812T100000
DTEND;TZID=America/Los_Angeles:20260812T170000
DTSTAMP:20260425T070559
CREATED:20260304T134404Z
LAST-MODIFIED:20260304T134404Z
UID:10001017-1786528800-1786554000@www.iatselocal80.org
SUMMARY:Financial Education \, Guidance \, Planning\, and Management with Vic Clement
DESCRIPTION:
URL:https://www.iatselocal80.org/calendar/financial-education-guidance-planning-and-management-with-vic-clement/2026-08-12/
LOCATION:Local 80 Office\, 2520 W. Olive Avenue\, Burbank\, 91505
END:VEVENT
BEGIN:VEVENT
DTSTART;TZID=America/Los_Angeles:20260819T100000
DTEND;TZID=America/Los_Angeles:20260819T170000
DTSTAMP:20260425T070559
CREATED:20260304T134404Z
LAST-MODIFIED:20260304T134404Z
UID:10001018-1787133600-1787158800@www.iatselocal80.org
SUMMARY:Financial Education \, Guidance \, Planning\, and Management with Vic Clement
DESCRIPTION:
URL:https://www.iatselocal80.org/calendar/financial-education-guidance-planning-and-management-with-vic-clement/2026-08-19/
LOCATION:Local 80 Office\, 2520 W. Olive Avenue\, Burbank\, 91505
END:VEVENT
BEGIN:VEVENT
DTSTART;TZID=America/Los_Angeles:20260826T100000
DTEND;TZID=America/Los_Angeles:20260826T170000
DTSTAMP:20260425T070559
CREATED:20260304T134404Z
LAST-MODIFIED:20260304T134404Z
UID:10001019-1787738400-1787763600@www.iatselocal80.org
SUMMARY:Financial Education \, Guidance \, Planning\, and Management with Vic Clement
DESCRIPTION:
URL:https://www.iatselocal80.org/calendar/financial-education-guidance-planning-and-management-with-vic-clement/2026-08-26/
LOCATION:Local 80 Office\, 2520 W. Olive Avenue\, Burbank\, 91505
END:VEVENT
BEGIN:VEVENT
DTSTART;TZID=America/Los_Angeles:20260902T100000
DTEND;TZID=America/Los_Angeles:20260902T170000
DTSTAMP:20260425T070559
CREATED:20260304T134404Z
LAST-MODIFIED:20260304T134404Z
UID:10001020-1788343200-1788368400@www.iatselocal80.org
SUMMARY:Financial Education \, Guidance \, Planning\, and Management with Vic Clement
DESCRIPTION:
URL:https://www.iatselocal80.org/calendar/financial-education-guidance-planning-and-management-with-vic-clement/2026-09-02/
LOCATION:Local 80 Office\, 2520 W. Olive Avenue\, Burbank\, 91505
END:VEVENT
BEGIN:VEVENT
DTSTART;TZID=America/Los_Angeles:20260909T100000
DTEND;TZID=America/Los_Angeles:20260909T170000
DTSTAMP:20260425T070559
CREATED:20260304T134404Z
LAST-MODIFIED:20260304T134404Z
UID:10001021-1788948000-1788973200@www.iatselocal80.org
SUMMARY:Financial Education \, Guidance \, Planning\, and Management with Vic Clement
DESCRIPTION:
URL:https://www.iatselocal80.org/calendar/financial-education-guidance-planning-and-management-with-vic-clement/2026-09-09/
LOCATION:Local 80 Office\, 2520 W. Olive Avenue\, Burbank\, 91505
END:VEVENT
BEGIN:VEVENT
DTSTART;TZID=America/Los_Angeles:20260916T100000
DTEND;TZID=America/Los_Angeles:20260916T170000
DTSTAMP:20260425T070559
CREATED:20260304T134404Z
LAST-MODIFIED:20260304T134404Z
UID:10001022-1789552800-1789578000@www.iatselocal80.org
SUMMARY:Financial Education \, Guidance \, Planning\, and Management with Vic Clement
DESCRIPTION:
URL:https://www.iatselocal80.org/calendar/financial-education-guidance-planning-and-management-with-vic-clement/2026-09-16/
LOCATION:Local 80 Office\, 2520 W. Olive Avenue\, Burbank\, 91505
END:VEVENT
BEGIN:VEVENT
DTSTART;TZID=America/Los_Angeles:20260923T100000
DTEND;TZID=America/Los_Angeles:20260923T170000
DTSTAMP:20260425T070559
CREATED:20260304T134404Z
LAST-MODIFIED:20260304T134404Z
UID:10001023-1790157600-1790182800@www.iatselocal80.org
SUMMARY:Financial Education \, Guidance \, Planning\, and Management with Vic Clement
DESCRIPTION:
URL:https://www.iatselocal80.org/calendar/financial-education-guidance-planning-and-management-with-vic-clement/2026-09-23/
LOCATION:Local 80 Office\, 2520 W. Olive Avenue\, Burbank\, 91505
END:VEVENT
BEGIN:VEVENT
DTSTART;TZID=America/Los_Angeles:20260930T100000
DTEND;TZID=America/Los_Angeles:20260930T170000
DTSTAMP:20260425T070559
CREATED:20260304T134404Z
LAST-MODIFIED:20260304T134404Z
UID:10001024-1790762400-1790787600@www.iatselocal80.org
SUMMARY:Financial Education \, Guidance \, Planning\, and Management with Vic Clement
DESCRIPTION:
URL:https://www.iatselocal80.org/calendar/financial-education-guidance-planning-and-management-with-vic-clement/2026-09-30/
LOCATION:Local 80 Office\, 2520 W. Olive Avenue\, Burbank\, 91505
END:VEVENT
BEGIN:VEVENT
DTSTART;TZID=America/Los_Angeles:20261007T100000
DTEND;TZID=America/Los_Angeles:20261007T170000
DTSTAMP:20260425T070559
CREATED:20260304T134404Z
LAST-MODIFIED:20260304T134404Z
UID:10001025-1791367200-1791392400@www.iatselocal80.org
SUMMARY:Financial Education \, Guidance \, Planning\, and Management with Vic Clement
DESCRIPTION:
URL:https://www.iatselocal80.org/calendar/financial-education-guidance-planning-and-management-with-vic-clement/2026-10-07/
LOCATION:Local 80 Office\, 2520 W. Olive Avenue\, Burbank\, 91505
END:VEVENT
BEGIN:VEVENT
DTSTART;TZID=America/Los_Angeles:20261014T100000
DTEND;TZID=America/Los_Angeles:20261014T170000
DTSTAMP:20260425T070559
CREATED:20260304T134404Z
LAST-MODIFIED:20260304T134404Z
UID:10001026-1791972000-1791997200@www.iatselocal80.org
SUMMARY:Financial Education \, Guidance \, Planning\, and Management with Vic Clement
DESCRIPTION:
URL:https://www.iatselocal80.org/calendar/financial-education-guidance-planning-and-management-with-vic-clement/2026-10-14/
LOCATION:Local 80 Office\, 2520 W. Olive Avenue\, Burbank\, 91505
END:VEVENT
BEGIN:VEVENT
DTSTART;TZID=America/Los_Angeles:20261021T100000
DTEND;TZID=America/Los_Angeles:20261021T170000
DTSTAMP:20260425T070559
CREATED:20260304T134404Z
LAST-MODIFIED:20260304T134404Z
UID:10001027-1792576800-1792602000@www.iatselocal80.org
SUMMARY:Financial Education \, Guidance \, Planning\, and Management with Vic Clement
DESCRIPTION:
URL:https://www.iatselocal80.org/calendar/financial-education-guidance-planning-and-management-with-vic-clement/2026-10-21/
LOCATION:Local 80 Office\, 2520 W. Olive Avenue\, Burbank\, 91505
END:VEVENT
BEGIN:VEVENT
DTSTART;TZID=America/Los_Angeles:20261028T100000
DTEND;TZID=America/Los_Angeles:20261028T170000
DTSTAMP:20260425T070559
CREATED:20260304T134404Z
LAST-MODIFIED:20260304T134404Z
UID:10001028-1793181600-1793206800@www.iatselocal80.org
SUMMARY:Financial Education \, Guidance \, Planning\, and Management with Vic Clement
DESCRIPTION:
URL:https://www.iatselocal80.org/calendar/financial-education-guidance-planning-and-management-with-vic-clement/2026-10-28/
LOCATION:Local 80 Office\, 2520 W. Olive Avenue\, Burbank\, 91505
END:VEVENT
BEGIN:VEVENT
DTSTART;TZID=America/Los_Angeles:20261104T100000
DTEND;TZID=America/Los_Angeles:20261104T170000
DTSTAMP:20260425T070559
CREATED:20260304T134404Z
LAST-MODIFIED:20260304T134404Z
UID:10001029-1793786400-1793811600@www.iatselocal80.org
SUMMARY:Financial Education \, Guidance \, Planning\, and Management with Vic Clement
DESCRIPTION:
URL:https://www.iatselocal80.org/calendar/financial-education-guidance-planning-and-management-with-vic-clement/2026-11-04/
LOCATION:Local 80 Office\, 2520 W. Olive Avenue\, Burbank\, 91505
END:VEVENT
BEGIN:VEVENT
DTSTART;TZID=America/Los_Angeles:20261111T100000
DTEND;TZID=America/Los_Angeles:20261111T170000
DTSTAMP:20260425T070559
CREATED:20260304T134404Z
LAST-MODIFIED:20260304T134404Z
UID:10001030-1794391200-1794416400@www.iatselocal80.org
SUMMARY:Financial Education \, Guidance \, Planning\, and Management with Vic Clement
DESCRIPTION:
URL:https://www.iatselocal80.org/calendar/financial-education-guidance-planning-and-management-with-vic-clement/2026-11-11/
LOCATION:Local 80 Office\, 2520 W. Olive Avenue\, Burbank\, 91505
END:VEVENT
BEGIN:VEVENT
DTSTART;TZID=America/Los_Angeles:20261118T100000
DTEND;TZID=America/Los_Angeles:20261118T170000
DTSTAMP:20260425T070559
CREATED:20260304T134404Z
LAST-MODIFIED:20260304T134404Z
UID:10001031-1794996000-1795021200@www.iatselocal80.org
SUMMARY:Financial Education \, Guidance \, Planning\, and Management with Vic Clement
DESCRIPTION:
URL:https://www.iatselocal80.org/calendar/financial-education-guidance-planning-and-management-with-vic-clement/2026-11-18/
LOCATION:Local 80 Office\, 2520 W. Olive Avenue\, Burbank\, 91505
END:VEVENT
END:VCALENDAR